BEGIN:VCALENDAR
VERSION:2.0
PRODID:-//The Vineyard - ECPv6.15.20//NONSGML v1.0//EN
CALSCALE:GREGORIAN
METHOD:PUBLISH
X-ORIGINAL-URL:https://thevineyardwestland.nl
X-WR-CALDESC:Evenementen voor The Vineyard
REFRESH-INTERVAL;VALUE=DURATION:PT1H
X-Robots-Tag:noindex
X-PUBLISHED-TTL:PT1H
BEGIN:VTIMEZONE
TZID:UTC
BEGIN:STANDARD
TZOFFSETFROM:+0000
TZOFFSETTO:+0000
TZNAME:UTC
DTSTART:20250101T000000
END:STANDARD
END:VTIMEZONE
BEGIN:VEVENT
DTSTART;TZID=UTC:20260501T090000
DTEND;TZID=UTC:20260501T120000
DTSTAMP:20260421T083212
CREATED:20260330T150525Z
LAST-MODIFIED:20260331T140300Z
UID:5625-1777626000-1777636800@thevineyardwestland.nl
SUMMARY:Feestelijke opening The Bakeyard!
DESCRIPTION:🍯✨ Uitnodiging: Feestelijke opening The Bakeyard! ✨🍞 \nGoed nieuws! Bij The Vineyard in Monster openen wij onze eigen bakkerij – en dat vieren we graag samen met jullie! \n📅 Datum: 1 mei\n⏰ Tijd: 09:00 – 12:00 uur \nKom gezellig langs en proef onze zelfgemaakte koekjes en versgebakken brood. Extra bijzonder: we werken met de heerlijke honing van Natuurlijk Westland. Op basis van deze honing hebben we onder andere honing stroopkoekjes ontwikkeld – absoluut het proeven waard! \nEen perfecte combinatie van ambacht\, smaak en streekproduct 💛 \nWe hopen jullie te zien op 1 mei!
URL:https://thevineyardwestland.nl/activiteit/feestelijke-opening-the-bakeyard/
CATEGORIES:Evenement
ATTACH;FMTTYPE=image/png:https://thevineyardwestland.nl/wp-content/uploads/2025/11/Event-scaled.png
END:VEVENT
END:VCALENDAR